BEGIN:VCALENDAR
VERSION:2.0
PRODID:-//Roading Industry Support Services Ltd - ECPv6.15.18//NONSGML v1.0//EN
CALSCALE:GREGORIAN
METHOD:PUBLISH
X-ORIGINAL-URL:https://riss.co.nz
X-WR-CALDESC:Events for Roading Industry Support Services Ltd
REFRESH-INTERVAL;VALUE=DURATION:PT1H
X-Robots-Tag:noindex
X-PUBLISHED-TTL:PT1H
BEGIN:VTIMEZONE
TZID:Pacific/Auckland
BEGIN:STANDARD
TZOFFSETFROM:+1300
TZOFFSETTO:+1200
TZNAME:NZST
DTSTART:20230401T140000
END:STANDARD
BEGIN:DAYLIGHT
TZOFFSETFROM:+1200
TZOFFSETTO:+1300
TZNAME:NZDT
DTSTART:20230923T140000
END:DAYLIGHT
BEGIN:STANDARD
TZOFFSETFROM:+1300
TZOFFSETTO:+1200
TZNAME:NZST
DTSTART:20240406T140000
END:STANDARD
BEGIN:DAYLIGHT
TZOFFSETFROM:+1200
TZOFFSETTO:+1300
TZNAME:NZDT
DTSTART:20240928T140000
END:DAYLIGHT
BEGIN:STANDARD
TZOFFSETFROM:+1300
TZOFFSETTO:+1200
TZNAME:NZST
DTSTART:20250405T140000
END:STANDARD
BEGIN:DAYLIGHT
TZOFFSETFROM:+1200
TZOFFSETTO:+1300
TZNAME:NZDT
DTSTART:20250927T140000
END:DAYLIGHT
END:VTIMEZONE
BEGIN:VEVENT
DTSTART;TZID=Pacific/Auckland:20240331T080000
DTEND;TZID=Pacific/Auckland:20240401T170000
DTSTAMP:20260423T234104
CREATED:20241219T223227Z
LAST-MODIFIED:20250331T214316Z
UID:2686-1711872000-1711990800@riss.co.nz
SUMMARY:ASHTAS Installer A&B Block Course Melbourne
DESCRIPTION:This Block Course workshop is for installers who will be leading the crews and signing off on the installation of road safety barrier systems. Day one is the Installer A workshop and day two is the Installer B modules for Semi-rigid\, Flexible\, and Terminals/Crash Cushions. You must have completed the Operative training to attend this workshop. \nOn completion of this workshop\, the candidate will: \n\nUnderstand the general requirements for installation\, inspection\, maintenance\, and repair of Road Safety Barrier Systems (RSBS)\nHave an understanding of the Installer Requirements within the ASHTAS Training Framework\nBe able to use the e-logbook to gather evidence for the Installer qualification\nReady to complete their eLogbook for the practical assessment in Semi-rigid\, Flexible\, and Terminals/Crash Cushions\n\nThe areas covered within the workshop: \n\nASHTAS e-logbook\nSite Safety\nTypical Installer Activities\nSetting Out\nPlant & Equipment\nEarthworks & Foundations\nAnchorages\nFasteners\nVerification of Installation\nHandover\n\nAt the end of each module\, the learner will complete a knowledge evaluation. Following the successful completion of the Installer A test they will be issued an updated eCard and following the successful completion of each Installer B test you will be issued an e-logbook to record installation evidence towards completing their Installer Status. You will then submit your eLogbook for assessment and pay the fee for its review. You will also be issued your updated eCard to demonstrate your Installer Status. \n  \nThis block course costs AUD$2005+GST and will be invoiced by our Australia course broker Solutions in Transport. Payment is required before attendance at the course. If you book 5 or more at the same time you will receive a 5% group discount.
URL:https://riss.co.nz/training/ashtas-installer-ab-block-course-melbourne/
LOCATION:TBC Melbourne\, Melbourne\, Victoria\, Australia
CATEGORIES:Safety Hardware Training and Accreditation Scheme (ASHTAS)
ATTACH;FMTTYPE=image/webp:https://riss.co.nz/wp-content/uploads/2024/09/Installer-A.webp
ORGANIZER;CN="Joseph Rosendaal":MAILTO:joseph@riss.co.nz
END:VEVENT
END:VCALENDAR